BEGIN:VCALENDAR
VERSION:2.0
PRODID:-//hacksw/handcal//NONSGML v1.0//EN
BEGIN:VEVENT
SUMMARY:Sortie club a POLLIONAY
UID:fa0e5b3e-af11-4c62-b193-6cfc7f352d07
DTSTART:20260509T074500Z
DTEND:20260509T140000Z
LOCATION:Localisation   
CATEGORIES:Sportif
STATUS:
URL;VALUE=URI:https://atscaf69.sportsregions.fr/evenements/2026/05/09/sortie-club-a-pollionay-2437847
END:VEVENT
END:VCALENDAR
