BEGIN:VCALENDAR
VERSION:2.0
PRODID:-//hacksw/handcal//NONSGML v1.0//EN
BEGIN:VEVENT
SUMMARY:Sortie club a VILLEFRANCHE SUR SAONE
UID:dc02f8da-cfbe-41f1-9de2-7ee362cd20c1
DTSTART:20260523T074500Z
DTEND:20260523T140000Z
LOCATION:Localisation   
CATEGORIES:Sportif
STATUS:
DESCRIPTION:<ul>
 	<li>55km (650m D+) :<a
 href="https://www.openrunner.com/r/9786927" id="LPlnk217297"
 target="_blank" rel="noreferrer
 noopener">https://www.openrunner.com/r/9786927</a></li>
 	<li>70km
 (670m D+) : <a href="https://www.openrunner.com/r/9786969"
 target="_blank" rel="noreferrer
 noopener">https://www.openrunner.com/r/9786969</a></li>
 	<li>90km
 (1300m D+) : <a href="https://www.openrunner.com/r/9786946"
 target="_blank" rel="noreferrer
 noopener">https://www.openrunner.com/r/9786946</a></li>
 </ul>
URL;VALUE=URI:https://atscaf69.sportsregions.fr/evenements/2026/05/23/sortie-club-a-villefranche-sur-saone-2437850
END:VEVENT
END:VCALENDAR
